Workbook
Name ___________nt1: #REF!
Name ___________nt2: #REF!
Name ___________nt3: #REF!
Name ___________nt4: #REF!
Name ___________nt5: #REF!
Name ___________nt6: #REF!
Name ___________nt7: #REF!
Name ___________nt8: #REF!
Name ___________nt9: #REF!
Name ___________tt5: #REF!
Name ___________tt6: #REF!
Name ___________ttt5: #REF!
Name ___________zt2: #REF!
Name ___________zt3: #REF!
Name ___________zt4: #REF!
Name ___________zt5: #REF!
Name ___________zt51: #REF!
Name ___________zt6: #REF!
Name ___________zt7: #REF!
Name ___________zt8: #REF!
Name __________nt1: #REF!
Name __________nt2: #REF!
Name __________nt3: #REF!
Name __________nt4: #REF!
Name __________nt5: #REF!
Name __________nt6: #REF!
Name __________nt7: #REF!
Name __________nt8: #REF!
Name __________nt9: #REF!
Name __________tt5: #REF!
Name __________tt6: #REF!
Name __________ttt5: #REF!
Name __________zt2: #REF!
Name __________zt3: #REF!
Name __________zt4: #REF!
Name __________zt5: #REF!
Name __________zt51: #REF!
Name __________zt6: #REF!
Name __________zt7: #REF!
Name __________zt8: #REF!
Name ________nt1: #REF!
Name ________nt2: #REF!
Name ________nt3: #REF!
Name ________nt4: #REF!
Name ________nt5: #REF!
Name ________nt6: #REF!
Name ________nt7: #REF!
Name ________nt8: #REF!
Name ________nt9: #REF!
Name ________tt5: #REF!
Name ________tt6: #REF!
Name ________ttt5: #REF!
Name ________zt2: #REF!
Name ________zt3: #REF!
Name ________zt4: #REF!
Name ________zt5: #REF!
Name ________zt51: #REF!
Name ________zt6: #REF!
Name ________zt7: #REF!
Name ________zt8: #REF!

Sheet П 1.13 2016 расчет 
I1: Таблица N П1.13
A3: Расчет суммы платы АО "РКЦ "Прогресс"
A4: за услуги по организации функционирования и развитию ЕЭС России,
A5: оперативно-диспетчерскому управлению в электроэнергетике,
A6: организации функционирования торговой системы оптового
A7: рынка электрической энергии (мощности), передаче
A8: электрической энергии по единой национальной
A9: (общероссийской) электрической сети
A11: № п/п | B11: технологический расход электроэнергии на транспортировку | G11: на содержание сетей | I11: Сумма платы за услуги
B12: Показатели | C12: плановый объем отпуска 220 кВ и ниже | D12: норматив потерь | E12: объем потерь | F12: тариф на оплату | G12: заявленная мощность | H12: тариф на оплату
C13: МВтч | D13: % | E13: МВтч | F13: руб./Мвтч | G13: МВт | H13: руб./Мвт | I13: тыс. руб.
B14: ОАО "ФСК ЕЭС"
A15: 1. | B15: Базовый период | L15: 17,604 МВт | M15: в дог.ФСК
B16: 1 полугодие 2015 г. | C16: 10340.648 | D16: 4.61 | E16: =C16*D16% -> 476.70387 | F16: 1730.59 | G16: 3.856 | H16: 134589.17 | I16: =(E16*F16+G16*6*H16)/1000 -> 3938.834 | J16: =(4+4+3.3+3+3+3)/6 -> 3.3833333 | K16: 2 п-е 2014г. был | L16: тариф был пересмотрен
B17: 2 полугодие 2015 г. | C17: 10257.907 | D17: 4.61 | E17: =C17*D17% -> 472.88951 | F17: 1860.38 | G17: 3.856 | H17: 144686.52 | I17: =(E17*F17+G17*6*H17)/1000 -> 4227.2215 | J17: =(3+3+3.3+3.3+4+4)/6 -> 3.4333333 | K17: 147681.2 | L17: протокол разногласий 5,05 МВт
B18: Итого 2015 г. | C18: =SUM(C16:C17) -> 20598.555 | D18: =D17 -> 4.61 | E18: =SUM(E16:E17) -> 949.59339 | G18: =(G16+G17)/2 -> 3.856 | I18: =SUM(I16:I17) -> 8166.0555 | J18: =(J16+J17)/2 -> 3.4083333 | L18: 11297.893 | M18: з.м. | N18: =755.798741*3+607.33827*3+605.65127*3+753.69935*3 -> 8167.4629 | O18: потери | P18: =191.45418+189.93766+146.00148+141.26387+127.32067+140.35634+162.60057+175.7855+189.4222+229.75914+193.11001+201.00106 -> 2088.0127 | Q18: =N18+P18 -> 10255.476
A19: 2. | B19: Период регулирования | J19: =(4+4+3.3+3+3+3+3+3+3.3+3.3+4+4)/12 -> 3.4083333 | N19: =(1923.99+1908.75+1467.22+1419.61+1279.49+1410.49) -> 9409.55
B20: 1 полугодие 2016 г. | C20: 10829.473 | D20: 3.76 | E20: =C20*D20% -> 407.1882 | F20: 1860.38 | G20: 2.79219 | H20: 144686.52 | I20: =(E20*F20+G20*6*H20)/1000 -> 3181.4783 | L20: =N19+N20 -> 20983.17 | N20: =(1634.03+1766.53+1903.57+2308.93+1940.63+2019.93) -> 11573.62
B21: 2 полугодие 2016 г. | C21: 10213.06 | D21: 3.76 | E21: =C21*D21% -> 384.01107 | F21: 1962.7 | G21: 2.76739 | H21: 155541.58 | I21: =(E21*F21+G21*6*H21)/1000 -> 3336.3638 | K21: рост с июля | L21: 1.075 | M21: по предлож.ФСК на 2015г.
B22: Итого 2016 г. | C22: =SUM(C20:C21) -> 21042.534 | D22: =(D20+D21)/2 -> 3.76 | E22: =C22*D22/100 -> 791.19927 | G22: =(G20+G21)/2 -> 2.77979 | I22: =SUM(I20:I21) -> 6517.8421 | K22: с июля 2015 г. | L22: =H21/H20 -> 1.0750247 | M22: 9322.2 | N22: =(E21*2030.3+G21*163310.63*6)/1000+I20 -> 6672.8012 | P22: =P18+N18 -> 10255.476
N23: =M22-I22 -> 2804.3579
J24: 6266,23 утверд.МЭ 2016
A25: Первый зам. генерального директора - | L25: 2014г. от бюджетного отдела
A26: главный инженер | H26: =#REF! -> #REF! | L26: 10652.16
C29: ='П1.30 -2020г., 1 и 2 п-е'!C14 -> 12023.386 | D29: ='П1.30 -2020г., 1 и 2 п-е'!D14 -> 2.9805483 | L29: в договоре ФСК | N29: з.м.
C30: ='П1.30 -2020г., 1 и 2 п-е'!E14 -> 10218.954 | D30: ='П1.30 -2020г., 1 и 2 п-е'!F14 -> 2.9806283 | N30: =2375.90731*6+2599.77984*6 -> 29854.123
C31: ='П1.30 -2020г., 1 и 2 п-е'!G14 -> 22242.34 | D31: ='П1.30 -2020г., 1 и 2 п-е'!H14 -> 2.9806033 | N31: потери
N32: =C18*D18/100*F16/1000 -> 1643.3568
N33: итого
N34: =N30+N32 -> 31497.48
L35: д.заплатить по тарифам с МРСК на пл.объем 2014 г.
N36: =11916.4+11621.3 -> 23537.7
L38: не хватает | N38: =N36-N34 -> -7959.7797

Sheet Выпад.дох.за 2015г.в тар.2017
A1: Расчет выпадающих по независящим причинам доходов от оказания услуг по передаче электрической энергии
A2: сетевой организации АО «РКЦ «Прогресс» за 2015 г., | H2: доход | I2: расход
A3: подлежащих включению в НВВ на передачу электрической энергии в 2017 г. | H3: =SUM(G12:G14)+G21 -> 17052.59 | I3: =SUM(G17:G20)+G22 -> 7877.17
A4: ???+доход от нк энергосбыт+ энергобытобслуживание ≈6,0+27,0=33,0т.р. | H4: Д.Б. | I4: =G7 -> 11020.37 | Q4: по сч-ф | R4: по плат.
A5: № п/п | B5: Показатели | G5: Сумма, тыс.руб. (без НДС) | H5: по ф.5 2013г. | I5: =I4-#REF! -> #REF!
B6: Утвержденнная выручка АО "РКЦ "Прогресс" на 2015 год
A7: 1. | B7: Утвержденная НВВ АО "РКЦ "Прогресс" (с учетом оплаты услуг ПАО "ФСК ЕЭС" и без уч.оплаты потерь на потребителя) на 2015 г. - | G7: 11020.37 | H7: 2302.9
A8: 1.1. | B8: в т.ч. Оплата услуг ПАО "ФСК ЕЭС" | G8: 8165.45 | H8: 14184.805
A9: 1.2. | B9: в т.ч. Утвержденная НВВ АО "РКЦ "Прогресс" на 2015 г. (без оплаты услуг ПАО "ФСК ЕЭС" и оплаты потерь) - | G9: =G7-G8 -> 2854.92 | H9: 14184.805
B10: Фактическая выручка АО "РКЦ "Прогресс" за 2015 год
A11: 2. | B11: Доход АО "РКЦ "Прогресс" всего | G11: =SUM(G12:G14) -> 16584.2 | R11: + псх
A12: 2.1. | B12: Доход АО "РКЦ "Прогресс" от ОАО "Самараэнерго" за услуги по передаче за 2015 г. (по котловым тарифам) - | G12: 13863.13 | H12: 14184.805 | Q12: =(1562692.98-489.19+1507438.53+1559332.1+1208328.25+932620.28+1067700.51+1022153.17+1073693.19+1078203.49+1257924.25+1688542.05+2360932.59)/1.18/1000 -> 13829.722 | R12: =(1562.96245+1507.73652+1559.56674+1208.5514+933.07772+1081.09326+1026.75988+1074.48587+1079.58811+1277.40177+1691.04973) -> 14002.273
A13: 2.2. | B13: в т.ч. Доход АО "РКЦ "Прогресс" от МП г.о.Самара "Самарский метрополитен" за услуги по передаче за 2015 г.- | G13: 799.55 | H13: 606.12 | Q13: =(145756.41+126872.99+139815.9+114721.95+52305.62+63205.15+67877.2+64578.67+61157.47+46958.91+41523.89)/1.18/1000 -> 783.70692 | S13: =G13-Q13 -> 15.843085 | T13: =(145756.41+126872.99+139815.9+114721.95+52305.62+63205.15+67877.2+64578.67+61157.47+46958.91+41523.89) -> 924774.16
A14: 2.3. | B14: в т.ч. Доход АО "РКЦ "Прогресс" от ЗАО "СГЭС" за услуги по передаче эл.энергии за 2015 г.- | G14: 1921.52 | H14: 8.85 | Q14: =(330757+358286.49+225297.83+270986.84+240988.94+311394.18+245198.13)/1.18/1000 -> 1680.4317
A15: 3. | B15: Платежи АО "РКЦ "Прогресс" | G15: =SUM(G16:G22) -> 16040.47
A16: 3.1. | B16: Оплата услуг ПАО "ФСК ЕЭС" | G16: 7694.91 | H16: 3495.9822 | J16: 1495.2 | K16: тыс.кВтч | Q16: 7639.4 | R16: =(8916.47073-1)/1.18 -> 7555.4837 | S16: =G16-Q16 -> 55.51
A17: 3.2. | B17: Платежи АО "РКЦ "Прогресс" в адрес ОАО "РЖД" КДЭ СП Трансэнерго за услуги по передаче эл.энергии за 2015 г.- | G17: 36.84 | H17: 4.54 | Q17: =(1972.57+2019.48+1612.24+1326.35+1501.68+1441.28+1974.96+4106.12+1942.88+3121.06+6007.26+16168.85)/1000/1.18 -> 36.605703
A18: 3.3. | B18: Платежи АО "РКЦ "Прогресс" в адрес ОАО "МРСК Волги" за услуги по передаче эл.энергии за 2015 г.- | G18: 2929.38 | H18: 17141.94 | Q18: =(3045.93693+190.46282+410.72779)/1.18 -> 3090.7861
A19: 3.4. | B19: Платежи АО "РКЦ "Прогресс" в адрес ЗАО "ССК"(подсобное хозяйство Борское) за услуги по передаче эл.энергии за 2015 г.- | G19: 891.68 | H19: 552.17058 | I19: только авг-сент.
A20: 3.5. | B20: Платежи АО "РКЦ "Прогресс" в адрес ЗАО "ССК"(промплощадка) за услуги по передаче эл.энергии за 2015 г.- | G20: 930.96 | H20: нет | J20: утв.потери 2013г. | P20: =SUM(G19:G20) -> 1822.64 | Q20: =(240.24978+274.24988+277.22959+955.44908) -> 1747.1783
A21: 3.6. | B21: Платежи АО "РКЦ "Прогресс" в адрес АО "Самаранефтегаз" за услуги по передаче эл.энергии за 2015 г.- | G21: 468.39 | H21: нет | I21: 261.35 | Q21: =(26368+32936.4+29698.68+30280.92+5332.99+31002.99+14489.38+8487.83+6880.86+20738.46+10233.3+21068.3+11410.64+28107.07+36877.05+11878.02+51119.76+62914.17)/1.18/1000 -> 372.7329 | R21: =26368+32936.4+29698.68+30280.92+5333.99+31002.99+14489.38+8487.83+6880.86+20738.46+10233.3+21068.3+11410.64+28107.07+36877.05+11878.02+51119.76+62914.17+18630.12+17031.36+16359.3 -> 491846.6
A22: 3.7. | B22: Покупка потерь на потребителя в ОАО "Самараэнерго" за 2015 г. | G22: 3088.31 | H22: 3495.9822 | J22: 1495.2 | K22: тыс.кВтч
B23: Фактическая выручка АО "РКЦ "Прогресс" на осуществления деятельности по передаче электрической энергии за 2015г.(на содержание сетей)
A24: 4. | B24: 16584,20-16040,47 = +543,73 тыс.руб. | G24: =G11-G15 -> 543.73 | H24: =SUM(H12:H14)-H17-H18-H19-H22 -> -6394.8577 | I24: -766.1
A25: 5. | B25: Выпадающие доходы (убытки) АО "РКЦ "Прогресс" от осуществления деятельности по передаче электрической энергии за 2015г.
B26: 2854,92 - 543,73 = +2311,19 тыс.руб. | G26: =G9-G24 -> 2311.19 | H26: =H7-H24 -> 8697.7577 | I26: -766.1
A29: В связи со сложившейся ситуацией в 2015 г., прошу учесть выпадающие доходы (убытки) АО "РКЦ "Прогресс" от осуществления деятельности по передаче электрической энергии за 2015 г. | Q29: =15461.52+761.06+3128.2-2374.47 -> 16976.31
A30: в размере - 2311,19 тыс.руб. при утверждении необходимой валовой выручки на 2017 г. | Q30: =#REF! -> #REF!
Q31: =Q30-Q29 -> #REF!
H33: =2265.5-G7 -> -8754.87
A43: Первый зам. генерального директора - | L43: =I36-9777.22 -> -9777.22
A44: главный инженер | F44: С. В. Тюлевин

Sheet П.2.1.
G1: Таблица № П2.1 | I1: Общее количество у.е. | L1: 664.8388
A2: Система условных единиц для распределения | I2: Количество у.е. по ВН | L2: 295.27 | M2: 0.4441227
A3: общей суммы тарифной выручки по классам напряжения | I3: Количество у.е. по СН I | L3: 0 | M3: 0
A4: АО "РКЦ "Прогресс" | I4: Количество у.е. по СН II | L4: 338.5071 | M4: 0.50915666
A5: Объем воздушных линий электропередач (ВЛЭП) и кабельных линий электропередач (КЛЭП) | I5: Количество у.е. по НН | L5: 31.0617 | M5: 0.046720649
A6: в условных единицах в зависимости от протяженности, напряжения, конструктивного
A7: использования и материала опор. | L7: 664.8388 | M7: 829.967
A9: 2019 год | G9: на передачу сторонним потребителям (пром.площадка + ПСХ + ЛОЦ "Космос") | L9: 833 | M9: утв.2015
B10: Напряжение, кВ | C10: Количество цепей на опоре | D10: Материал опор | E10: Количество условных единиц (у) на 100 км трассы ЛЭП | F10: Протяженность | G10: Объем условных единиц
E11: у/100км | F11: км | G11: у
A12: 1 | B12: 2 | C12: 3 | D12: 4 | E12: 5 | F12: 6 | G12: 7 = 5 * 6 /100
A13: ВЛЭП | B13: 1150 | C13: - | D13: металл | E13: 800
B14: 750 | C14: 1 | D14: металл | E14: 600
B15: 400-500 | C15: 1 | D15: металл | E15: 400
D16: ж/бетон | E16: 300
B17: 330 | C17: 1 | D17: металл | E17: 230
D18: ж/бетон | E18: 170
C19: 2 | D19: металл | E19: 290
D20: ж/бетон | E20: 210
B21: 220 | C21: 1 | D21: дерево | E21: 260
D22: металл | E22: 210
D23: ж/бетон | E23: 140
C24: 2 | D24: металл | E24: 270 | F24: 0.1 | G24: 0.27
D25: ж/бетон | E25: 180
B26: 110-150 | C26: 1 | D26: дерево | E26: 180
D27: металл | E27: 160 | G27: 0
D28: ж/бетон | E28: 130
C29: 2 | D29: металл | E29: 190
D30: ж/бетон | E30: 160
A31: КЛЭП | B31: 220 | C31: - | D31: - | E31: 3000
B32: 110 | C32: - | D32: - | E32: 2300
A33: ВН, всего | G33: 0.27
A34: ВЛЭП | B34: 35 | C34: 1 | D34: дерево | E34: 170
D35: металл | E35: 140
D36: ж/бетон | E36: 120 | G36: 0
C37: 2 | D37: металл | E37: 180 | G37: 0
D38: ж/бетон | E38: 150
B39: 1 - 20 | C39: - | D39: дерево | E39: 160
D40: дерево на ж/б пасынках | E40: 140 | G40: 0
D41: ж/бетон, металл | E41: 110 | F41: 5.236 | G41: 5.7596 | J41: ПСХ
...

Sheet П.2.2.
G1: Таблица № П2.2
A2: Объем подстанций 35-1150 кВ, трансформаторных подстанций (ТП), комплексных трансформаторных подстанций (КТП) и распределительных пунктов(РП) 0,4-20 кВ в условных единицах
A3: АО "РКЦ "Прогресс"
A4: 2019 год | G4: на передачу сторонним потребителям (пром.площадка + ПСХ + ЛОЦ "Космос")
A5: п/п | B5: Наименование | C5: Единица измерения | D5: Напряжение, кВ | E5: Количество условных единиц (у) на единицу измерения | F5: Количество единиц измерения | G5: Объем условных единиц
E6: у/ед.изм. | F6: ед.изм. | G6: у
A7: 1 | B7: 2 | C7: 3 | D7: 4 | E7: 5 | F7: 6 | G7: 7=5*6
A8: 1 | B8: Подстанция | C8: П/ст | D8: 1150 | E8: 1000
D9: 750 | E9: 600
D10: 400 - 500 | E10: 500
D11: 330 | E11: 250 | J11: ЛОЦ | L11: ПСХ
D12: 220 | E12: 210 | F12: 1 | G12: 210 | I12: 1 | J12: 0 | K12: 0 | L12: 0
D13: 110 - 150 | E13: 105 | G13: 0 | J13: 0 | K13: 0 | L13: 0
D14: 35 | E14: 75 | G14: 0 | J14: 0 | K14: 0 | L14: 0
A15: 2 | B15: Силовой трансформатор или реактор (одно- или трехфазный), или вольтодобавочный трансформатор | C15: Единица оборудования | D15: 1150 | E15: 60 | J15: 0 | K15: 0 | L15: 0
D16: 750 | E16: 43 | J16: 0 | K16: 0 | L16: 0
D17: 400 - 500 | E17: 28 | J17: 0 | K17: 0 | L17: 0
D18: 330 | E18: 18 | J18: 0 | K18: 0 | L18: 0
D19: 220 | E19: 14 | F19: 2 | G19: 28 | I19: 2 | J19: 0 | K19: 0 | L19: 0
D20: 110 - 150 | E20: 7.8 | G20: 0 | J20: 0 | K20: 0 | L20: 0
D21: 35 | E21: 2.1 | G21: 0 | J21: 0 | K21: 0 | L21: 0
D22: 1 - 20 | E22: 1 | F22: 18 | G22: 18 | I22: 22 | J22: 0 | K22: -4 | L22: 0
A23: 3 | B23: Воздушный выключатель | C23: 3 фазы | D23: 1150 | E23: 180 | J23: 0 | K23: 0 | L23: 0
D24: 750 | E24: 130 | J24: 0 | K24: 0 | L24: 0
D25: 400 - 500 | E25: 88 | J25: 0 | K25: 0 | L25: 0
D26: 330 | E26: 66 | J26: 0 | K26: 0 | L26: 0
D27: 220 | E27: 43 | J27: 0 | K27: 0 | L27: 0
D28: 110 - 150 | E28: 26 | J28: 0 | K28: 0 | L28: 0
D29: 35 | E29: 11 | J29: 0 | K29: 0 | L29: 0
D30: 1 - 20 | E30: 5.5 | F30: 9 | G30: 49.5 | I30: 9 | J30: 0 | K30: 0 | L30: 0
A31: 4 | B31: Масляный выключатель | C31: - " - | D31: 220 | E31: 23 | J31: 0 | K31: 0 | L31: 0
D32: 110 - 150 | E32: 14 | G32: 0 | J32: 0 | K32: 0 | L32: 0
D33: 35 | E33: 6.4 | J33: 0 | K33: 0 | L33: 0
D34: 1 - 20 | E34: 3.1 | F34: 50 | G34: 155 | I34: 50 | J34: 0 | K34: 0 | L34: 0
A35: 5 | B35: Отделитель с короткозамыкателем | C35: Единица оборудования | D35: 400 - 500 | E35: 35 | I35: 0 | J35: 0 | K35: 0 | L35: 0
D36: 330 | E36: 24 | I36: 0 | J36: 0 | K36: 0 | L36: 0
D37: 220 | E37: 19 | F37: 3 | G37: 57 | H37: + | I37: 3 | J37: 0 | K37: 0 | L37: 0
D38: 110 - 150 | E38: 9.5 | G38: 0 | I38: 0 | J38: 0 | K38: 0 | L38: 0
D39: 35 | E39: 4.7 | G39: 0 | I39: 0 | J39: 0 | K39: 0 | L39: 0
A40: 6 | B40: Выключатель нагрузки | C40: - " - | D40: 1 - 20 | E40: 2.3 | F40: 5 | G40: 11.5 | I40: 5 | J40: 0 | K40: 0 | L40: 3
...

Sheet Баланс электроэнергии
L1: Таблица N П 1.4
A2: Баланс электрической энергии по сетям ВН, СН1, СН11 и НН
A3: АО "РКЦ "Прогресс"
B4: на передачу сторонним потребителям | L4: млн. кВт.ч
A5: п.п. | B5: Показатели | C5: Базовый период | H5: Период регулирования
C6: Всего | D6: ВН | E6: СН1 | F6: СН11 | G6: НН | H6: Всего | I6: ВН | J6: СН1 | K6: СН11 | L6: НН
A7: 1 | B7: 2 | C7: 3 | D7: 4 | E7: 5 | F7: 6 | G7: 7 | H7: 8 | I7: 9 | J7: 10 | K7: 11 | L7: 12
A8: 1. | B8: Поступление эл. энергии в сеть, ВСЕГО | C8: 20.726211 | D8: 20.146104 | E8: 0.453907 | F8: 7.4558034 | G8: 0.46224737 | H8: 22.851354 | I8: 22.24234 | J8: 0.476754 | K8: 12.409626 | L8: 0.52352132
A9: 1.1. | B9: из смежной сети, всего | D9: 0 | E9: 0 | F9: 7.3296034 | G9: 0.46224737 | J9: 0 | K9: 12.277366 | L9: 0.52352132
B10: в том числе из сети
B11: ВН | C11: 6.8756964 | E11: 0 | F11: 6.8756964 | H11: 11.800612 | J11: 0 | K11: 11.800612
B12: СН1 | C12: 0.453907 | F12: 0.453907 | H12: 0.476754 | K12: 0.476754
B13: СН11 | C13: 0.46224737 | G13: 0.46224737 | H13: 0.52352132 | L13: 0.52352132
A14: 1.2. | B14: от ПАО "ФСК ЕЭС" | C14: 20.146104 | D14: 20.146104 | H14: 22.24234 | I14: 22.24234
A15: 1.3. | B15: от АО "Самаранефтегаз" | C15: 0.453907 | E15: 0.453907 | H15: 0.476754 | J15: 0.476754
A16: 1.4. | B16: ПАО "МРСК Волги" | C16: 0.0686 | F16: 0.0686 | H16: 0.07546 | K16: 0.07546
A17: 1.5. | B17: ООО "Энергобытобслуживание" | C17: 0.0576 | F17: 0.0576 | H17: 0.0568 | K17: 0.0568
A18: 1.6. | B18: поступление эл.энергии от других организаций | C18: 0 | H18: 0
A19: 2. | B19: Потери электроэнергии в сети | C19: 1.4508348 | D19: 0.50034334 | E19: 0 | F19: 0.91924406 | G19: 0.03124737 | H19: 1.417991 | I19: 0.650379 | J19: 0 | K19: 0.733373 | L19: 0.034239
B20: то же в % (п. 2/п. 1) | C20: 7 | D20: 2.4835737 | E20: 0 | F20: 12.329242 | G20: 6.7598805 | H20: 6.2052821 | I20: 2.9240583 | J20: 0 | K20: 5.9097106 | L20: 6.5401348
A21: 3. | B21: Расход электроэнергии на производственные | C21: 9.4368957e-16 | G21: 9.4368957e-16 | H21: -1.4432899e-15 | L21: -1.4432899e-15
B22: и хозяйственные нужды
A23: 4. | B23: Полезный отпуск из сети | C23: 19.275376 | D23: 12.770064 | E23: 0 | F23: 6.074312 | G23: 0.431 | H23: 21.433363 | I23: 9.791349 | J23: 0 | K23: 11.152732 | L23: 0.48928232
A24: 4.1. | B24: в т.ч.собственным потребителям ЭСО, из них: | C24: 0 | F24: 0 | G24: 0 | H24: 0 | K24: 0
B25: потребителям, присоединенным к центру питания на генераторном напряжении
A26: 4.2. | B26: потребителям оптового
B27: рынка
A28: 4.3. | B28: сальдо переток в другие | C28: 19.275376 | D28: 12.770064 | E28: 0 | F28: 6.074312 | G28: 0.431 | H28: 21.433363 | I28: 9.791349 | J28: 0 | K28: 11.152732 | L28: 0.48928232
B29: организации

Sheet Баланс электрической мощности
L1: Таблица N П 1.5
A2: Баланс электрической мощности по сетям ВН, СН1, СН11 и НН
A3: АО "РКЦ "Прогресс"
B4: на передачу сторонним потребителям | L4: МВт
A5: п.п. | B5: Показатели | C5: Базовый период | H5: Период регулирования
C6: Всего | D6: ВН | E6: СН1 | F6: СН11 | G6: НН | H6: Всего | I6: ВН | J6: СН1 | K6: СН11 | L6: НН
A7: 1 | B7: 2 | C7: 3 | D7: 4 | E7: 5 | F7: 6 | G7: 7 | H7: 8 | I7: 9 | J7: 10 | K7: 11 | L7: 12
A8: 1. | B8: Поступление мощности в сеть, ВСЕГО | C8: 2.8221 | D8: 2.7555 | E8: 0.052 | F8: 0.96125 | G8: 0.06057 | H8: 3.049585 | I8: 2.9806033 | J8: 0.054515 | K8: 1.6970128 | L8: 0.077639243
A9: 1.1. | B9: из смежной сети | E9: 0 | F9: 0.94665 | G9: 0.06057 | J9: 0 | K9: 1.6825461 | L9: 0.077639243
B10: в т.ч. из ВН | E10: 0 | F10: 0.89465 | J10: 0 | K10: 1.6280311
B11: СН I | C11: 0.052 | F11: 0.052 | H11: 0.054515 | K11: 0.054515
B12: СН II | C12: 0.06057 | G12: 0.06057 | H12: 0.077639243 | L12: 0.077639243
A13: 1.2. | B13: от ПАО "ФСК ЕЭС" | C13: 2.7555 | D13: 2.7555 | H13: 2.9806033 | I13: 2.9806033
A14: 1.3. | B14: от АО "Самаранефтегаз" | C14: 0.052 | E14: 0.052 | H14: 0.054515 | J14: 0.054515
A15: 1.4. | B15: ПАО "МРСК Волги" | C15: 0.005 | F15: 0.005 | H15: 0.005 | K15: 0.005
A16: 1.5. | B16: ООО "Энергобытобслуживание" | C16: 0.0096 | F16: 0.0096 | H16: 0.0094666667 | K16: 0.0094666667
A17: 1.6. | B17: от других организаций
A18: 2. | B18: Потери в сети | C18: 0.19755 | D18: 0.06813 | E18: 0 | F18: 0.125165 | G18: 0.004255 | H18: 0.18925 | I18: 0.08425 | J18: 0 | K18: 0.09992 | L18: 0.00508
B19: то же в % | C19: 7.0001063 | D19: 2.4825095 | E19: 0 | F19: 12.331066 | G19: 6.7649298 | H19: 6.2057624 | I19: 2.9166089 | J19: 0 | K19: 5.9079934 | L19: 6.5430829
A20: 3. | B20: Мощность на производственные | C20: 0 | H20: 0 | L20: 0
B21: и хозяйственные нужды
A22: 4. | B22: Полезный отпуск мощности | C22: 2.62455 | D22: 1.79272 | E22: 0 | F22: 0.775515 | G22: 0.056315 | H22: 2.860335 | I22: 1.2683222 | J22: 0 | K22: 1.5194535 | L22: 0.072559243
B23: потребителям
A24: 4.1. | B24: в т.ч. заявленная (расчетная) мощность собственных потребителей, пользующихся региональными электрическими сетями | C24: 0 | D24: 0 | E24: 0 | F24: 0 | G24: 0 | H24: 0 | I24: 0 | J24: 0 | K24: 0 | L24: 0
A25: 4.2. | B25: заявленная (расчетная)
B26: мощность потребителей
B27: оптового рынка
A28: 4.3. | B28: в другие организации | C28: 2.62455 | D28: 1.79272 | E28: 0 | F28: 0.775515 | G28: 0.056315 | H28: 2.860335 | I28: 1.2683222 | J28: 0 | K28: 1.5194535 | L28: 0.072559243

Sheet П1.30 -2020г., 1 и 2 п-е
H1: Таблица № П1.30 | L1: 22293.289 | N1: 22851.354 | R1: + ЛОЦ "Космос" | Z1: по актам г.о.дог.2013г. ССК СН2 будет в 2014г. | AF1: данные ССК, Метро, РЖД | AU1: ++++ | AW1: ССК
L2: 3.906294 | N2: 3.049585 | O2: -0.85670901 | AF2: конечные потребители по стр-ре 2016г., утв.мэ | AW2: ЭБО | AX2: уточнить
H3: (в ред. Приказа ФСТ РФ от 31.07.2007 № 138-э/6) | AW3: МРСК
A4: Отпуск (передача) электроэнергии территориальными сетевыми организациями | L4: 7016.3543 | N4: 0.93151607 | O4: 1 п-е | AW4: ФСК
A5: АО "РКЦ "Прогресс" на 2020 год | K5: ФСК | L5: 7016.3543 | N5: 0.93151607 | O5: 2 п-е
A6: № | B6: Наименование показателя | C6: 1 ПОЛУГОДИЕ | E6: 2 ПОЛУГОДИЕ | G6: 2020 ГОД | I6: Присоеди- ненная мощность, МВА | J6: Товарная продукция, тыс. руб. | K6: 12023.386 | L6: 2.9805483 | M6: 10218.954 | N6: 2.9806283 | O6: 22242.34 | P6: 2.9806033
C7: Отпуск ЭЭ, тыс. кВт·ч | D7: Заявленная мощность, МВт | E7: Отпуск ЭЭ, тыс. кВт·ч | F7: Заявленная мощность, МВт | G7: Отпуск ЭЭ, тыс. кВт·ч | H7: Заявленная мощность, МВт | K7: 7016.3543 | L7: 0.15443 | M7: 7016.3543 | N7: 0.15443 | O7: 22497.592 | P7: 3.856
A8: 1 | B8: 2 | C8: 3 | D8: 4 | E8: 5 | F8: 6 | G8: 7 | H8: 8 | I8: 9 | J8: 10 | K8: 7016.3543 | L8: 0.93151607 | M8: 7016.3543 | N8: 0.93151607 | R8: 12829.58 | S8: 1.7420611
A9: 1 | B9: Поступление электроэнергии в сеть - всего | C9: 12344.928 | D9: 3.053995 | E9: 10506.426 | F9: 3.045145 | G9: 22851.354 | H9: 3.049585 | K9: 12451.758 | L9: 3.0804226 | M9: 10597.347 | N9: 3.0714969 | O9: 23049.106 | P9: 3.0759598 | S9: 22941.249 | T9: 3.9073145
B10: в т.ч. из | K10: 11549.023 | L10: 3.9160848 | M10: 11387.951 | N10: 3.896603 | O10: 22936.973 | P10: 3.9062939
A11: 1.1 | B11: не сетевых организаций | L11: 7493.2669 | O11: -85.61868 | P11: -0.85670887 | U11: мрск
A12: 1.2 | B12: сетевых организаций | C12: 12344.928 | D12: 3.053995 | E12: 10506.426 | F12: 3.045145 | G12: 22851.354 | H12: 3.049585 | K12: 2.9809683 | L12: ФСК заявка | M12: Энергонефть | O12: 3.977 | P12: 0.00082122449 | AU12: 3.049585
B13: в т.ч. из | K13: 7462.3618 | M13: 8745.3728 | P13: добавить | U13: 0.0036752039 | V13: 0.0013247961 | AU13: 2.860335
A14: 1.2.1 | B14: ПАО "ФСК ЕЭС" | C14: 12023.386 | D14: 2.9805483 | E14: 10218.954 | F14: 2.9806283 | G14: 22242.34 | H14: 2.9806033 | K14: потери | L14: 689.34032 | M14: 0.18060333 | N14: 3.856 | O14: 2.69901 | P14: 0.87539667 | Q14: 7462.3618 | R14: 7943.693 | S14: 7227.8498 | T14: 1.5905993 | U14: 7293.0925 | V14: 1.5911628 | W14: 14520.942 | X14: 1.590886 | AU14: 0.015598334 | AV14: -0.20143
A15: 1.2.2 | B15: АО "Самаранефтегаз" | C15: 255.112 | D15: 0.05888 | E15: 221.642 | F15: 0.05015 | G15: 476.754 | H15: 0.054515 | K15: 0.062052821 | L15: 0.062057624 | O15: 3307.2639 | Q15: 7462.3618 | S15: 2.5390799 | T15: -0.44152339
A16: 1.2.3 | B16: ПАО "МРСК Волги" | C16: 37.73 | D16: 0.005 | E16: 37.73 | F16: 0.005 | G16: 75.46 | H16: 0.005 | K16: МРСК от ТП 2101, конечный потребитель ООО "Атлант", от ТП 1601 (ССК) | R16: 0.024 | S16: 0.44152339 | T16: 0.63077339
A17: 1.2.4 | B17: ООО "Энергобытобслуживание" | C17: 28.7 | D17: 0.0095666667 | E17: 28.1 | F17: 0.0093666667 | G17: 56.8 | H17: 0.0094666667 | K17: 56.793892 | T17: 1417.991
A18: … | L18: 7462.3618 | T18: 0.071841335 | U18: 15357.162
A19: 2 | B19: Потери электроэнергии - всего | C19: 766.038 | D19: 0.18951 | E19: 651.953 | F19: 0.18896 | G19: 1417.991 | H19: 0.18925 | K19: 766.037 | L19: 0.18951 | M19: 651.953 | N19: 0.18896 | O19: 1417.991 | P19: 0.189 | Q19: потери всего | T19: 1103.279 | AU19: 0.062052821 | AV19: 0.062057624
A20: 3 | B20: Отпуск (передача) электроэнергии сетевыми предприятиями - всего | C20: 11578.89 | D20: 2.864485 | E20: 9854.4732 | F20: 2.856185 | G20: 21433.363 | H20: 2.860335 | K20: 0.062057624 | L20: 0.062052821 | O20: 1417.99 | P20: 0.189235 | R20: 0.062052821 | S20: 0.062057624
B21: в т.ч. | K21: 0.00042 | L21: 0.00034 | M21: 0.000365 | N21: 0.00038
A22: 3.1 | B22: не сетевым организациям | C22: 5092.6451 | D22: 1.220655 | E22: 3833.6932 | F22: 1.202355 | G22: 8926.3383 | H22: 1.211505 | K22: 8351.542 | L22: 1.0189884 | M22: 8195.9148 | N22: 7367.9748 | O22: -574.79632 | P22: 2.0869017 | AV22: 8926.3373 | AW22: 1.211505
A23: 3.2 | B23: сетевым организациям | C23: 6486.245 | D23: 1.64383 | E23: 6020.78 | F23: 1.65383 | G23: 12507.025 | H23: 1.64883 | K23: 8926.3383 | L23: 1.211505 | O23: 0.901505
A24: 3.2.1. | B24: в т.ч. | L24: Энерго | O24: 9263.9996
A25: … | K25: 0.02583433 | L25: 0.034292772 | M25: 0.030053551
A26: 3.2.5 | B26: ЗАО "СГЭС" | C26: 0 | D26: 0 | E26: 0 | F26: 0 | G26: 0 | H26: 0 | L26: #DIV/0!
A27: 3.2.5.1 | B27: также в сальдированном выражении (п. 3.2.5 - п. 1.2.5)
A28: 3.2.5 | B28: сетевой организации ОАО "РЖД" | C28: 431.554 | D28: 0.092 | E28: 370.214 | F28: 0.092 | G28: 801.768 | H28: 0.092 | K28: 0.189235
A29: 3.2.5.1 | B29: также в сальдированном выражении (п. 3.2.5 - п. 1.2.5) | K29: 8067.9021 | L29: 6856.9127 | M29: 7462.3618
A30: 3.2.6 | B30: МП г.о. Самара “Самарский метрополитен” | C30: 389.898 | D30: 0.09 | E30: 429.9 | F30: 0.1 | G30: 819.798 | H30: 0.095
A31: 3.2.6.1 | B31: также в сальдированном выражении (п. 3.2.6 - п. 1.2.6) | L31: 2016 год | AF31: чччи
A32: 3.2.7 | B32: АО "ССК" | C32: 5664.793 | D32: 1.46183 | E32: 5220.666 | F32: 1.46183 | G32: 10885.459 | H32: 1.46183 | K32: + | L32: 9927.411 | M32: 1.33318 | N32: 958.048 | O32: 0.12865 | AF32: 8165.0332 | AG32: час. | AU32: 7446.4603
A33: 3.2.7.1 | B33: также в сальдированном выражении (п. 3.2.7 - п. 1.2.7) | O33: фск 2016г.
B34: … | O34: 2.77979
A35: 4 | B35: Поступление электроэнергии в ЕНЭС | O35: 2.90844
B36: в т.ч. из
A37: 4.1 | B37: не сетевых организаций
A38: 4.2 | B38: сетевых организаций
B39: в т.ч. из
A40: 4.2.1 | B40: сетевой организации 1
...

Sheet тсо 2020 год
A2: Структура полезного отпуска электрической энергии (мощности) на 2020 год
A3: АО "РКЦ "Прогресс"
A4: (наименование сетевой организации)
A6: Объемы потребления | B6: Всего | C6: Уровни напряжения | H6: 8926.3373 | I6: 1.211505
C7: ВН | D7: СН I | E7: СН II | F7: НН | H7: 8926.3383 | I7: 1.211505
A8: I. ПОЛЕЗНЫЙ ОТПУСК КОНЕЧНЫМ ПОТРЕБИТЕЛЯМ *
A9: Всего: | AA9: 436.464
A10: Электрическая энергия, тыс.кВт.ч | B10: 8873.519 | C10: 2765.223 | E10: 5671.833 | F10: 436.463 | J10: 7377.9867 | K10: 8760 | L10: МАКС | AE10: сн2
A11: Мощность, МВт | B11: 1.2027019 | C11: 0.35553223 | E11: 0.78341352 | F11: 0.063756189 | Z11: 7777.6999 | AB11: 7777.6999 | AE11: 7333.8259
A12: в т.ч.: | S12: по факту 2016 г. | Z12: факт 2017г.
A13: 1. ПРОЧИЕ ПОТРЕБИТЕЛИ | G13: ВН | H13: СН2 | I13: НН | J13: ИТОГО | S13: ВН | T13: СН2 | U13: НН | AA13: ВН | AB13: СН2 | AC13: НН | AE13: ВН | AF13: СН2 | AG13: НН
A14: Электрическая энергия, тыс.кВт.ч | B14: 8277.2 | C14: 2765.223 | E14: 5340.821 | F14: 171.156 | G14: 2765.223 | H14: 5340.821 | I14: 171.157 | K14: 7502.1156 | L14: 8277.201 | M14: Д.Б. | O14: 780.95 | Q14: 5511.977 | S14: 3493.308 | T14: 4365.553 | U14: 64.187 | Z14: проч. | AA14: 2765.223 | AB14: 3607.386 | AC14: 110.593 | AF14: 3790.478 | AG14: 108.348 | AI14: ВН | AJ14: СН2 | AK14: НН | AM14: 1901.788
A15: Мощность, МВт | B15: 1.1033154 | C15: 0.35553223 | E15: 0.72824486 | F15: 0.019538356 | G15: 7777.6999 | H15: 7333.8259 | I15: 8760 | K15: 1.1033154 | L15: 7570 | M15: 2016УТВ. | O15: 2285.783 | Q15: 0.74778321 | R15: 7371.0895 | Z15: нас. | AB15: 369.3701 | AC15: 318.348 | AF15: 10.687 | AG15: 288.208 | AI15: 7777.6999 | AJ15: 7333.8259 | AK15: 8760 | AM15: 0.426
A16: в т.ч.: | G16: 0 | H16: 0 | I16: 0.001 | K16: 7502.1165 | Z16: в т.ч.
A17: 1.1 Монопотребитель** (Наименование организации) | H17: 29.570666 | I17: 38.67 | K17: 0.9423043 | M17: 9514.023 | Z17: нас.электро
A18: Электрическая энергия, тыс.кВт.ч | G18: 0.35553223 | H18: 0.72824486 | I18: 0.019538356 | J18: 1.1033154 | K18: 7777.6999 | L18: 7333.8259 | M18: 8760 | Z18: проч.нас. | AE18: 2670.834
A19: Мощность, МВт | G19: 0 | H19: 0 | I19: 0 | Z19: ГСК | AE19: 2765.223
A20: 2. НАСЕЛЕНИЕ | G20: -0.095 | H20: -0.74440072 | I20: -0.0043428308 | J20: 0.008554 | K20: 0.0059993111 | L20: 6e-05 | M20: 0.0011218676 | T20: нас.СН2 | U20: нас.НН | AE20: 7777.6999
A21: Электрическая энергия, тыс.кВт.ч | B21: 596.319 | E21: 331.012 | F21: 265.307 | I21: 624.76 | J21: 6000 | L21: 6000 | M21: 6000 | T21: 360.938 | U21: 309.492 | AE21: 7333.8259
A22: Мощность, МВт | B22: 0.0993865 | E22: 0.055168667 | F22: 0.044217833 | I22: 6000 | J22: 6000 | L22: 6494.8454 | M22: 0.030286187 | AE22: 8760
A23: в т.ч.: | J23: 6000 | L23: 4475.3175 | M23: 0.013931646
A24: в пределах социальной нормы
A25: Электрическая энергия, тыс.кВт.ч | B25: 596.319 | E25: 331.011 | F25: 265.308
A26: Мощность, МВт | B26: 0.0993865 | E26: 0.055168667 | F26: 0.044217833 | H26: 5999.9819
A27: сверх социальной нормы
A28: Электрическая энергия, тыс.кВт.ч | B28: 0 | E28: 0 | F28: 0
A29: Мощность, МВт | B29: 0 | E29: 0 | F29: 0
A30: II. СОБСТВЕННОЕ ПОТРЕБЛЕНИЕ (в целом по юридическому лицу) *** | AE30: 7502.1156
A31: Электрическая энергия, тыс.кВт.ч | B31: 139387.62 | C31: 139036.4 | E31: 351.219
A32: Мощность, МВт | B32: 22.6548 | C32: 22.5998 | E32: 0.055 | AA32: 6152.1078 | AB32: 6385.8 | AC32: #DIV/0!
A34: Примечание: * - действующий договор оказания услуг по передаче электрической энергии № 3 от 31.12.2014г.;
A35: ** - в соответствии с критериями, определенными постановлением Правительства Российской Федерации от 29.12.2011 № 1178;
A36: ***- действующие договора энергоснабжения № 20-1001э от 01.01.2013г. , № 20-1001к от 01.01.2013г..
A37: _____________________ ПАО "Самараэнерго" | D37: Руководитель сетевой организации АО "РКЦ "Прогресс"
A42: _______________________________________________ | D42: ___________________________С. В. Тюлевин
A43: (ФИО, подпись) | D43: (ФИО, подпись)
A44: М.П. | D44: М.П.
A45: Дата согласования______________________

Sheet НК Энерго 2020 год
A2: Структура полезного отпуска электрической энергии (мощности) на 2020 год
A3: АО "РКЦ "Прогресс"
A4: (наименование сетевой организации)
A6: Объемы потребления | B6: Всего | C6: Уровни напряжения
C7: ВН | D7: СН I | E7: СН II | F7: НН
A8: I. ПОЛЕЗНЫЙ ОТПУСК КОНЕЧНЫМ ПОТРЕБИТЕЛЯМ *
A9: Всего:
A10: Электрическая энергия, тыс.кВт.ч | B10: 52.81832 | F10: 52.81832 | H10: 56.793892 | K10: 56.520884
A11: Мощность, МВт | B11: 0.0088030533 | F11: 0.0088030533 | H11: 0.0094656487
A12: в т.ч.:
A13: 1. ПРОЧИЕ ПОТРЕБИТЕЛИ
A14: Электрическая энергия, тыс.кВт.ч
A15: Мощность, МВт
A16: в т.ч.:
A17: 1.1 Монопотребитель** (Наименование организации)
A18: Электрическая энергия, тыс.кВт.ч
A19: Мощность, МВт
A20: 2. НАСЕЛЕНИЕ
A21: Электрическая энергия, тыс.кВт.ч | B21: 52.81832 | F21: 52.81832
A22: Мощность, МВт | B22: 0.0088030533 | F22: 0.0088030533
A23: в т.ч.:
A24: в пределах социальной нормы
A25: Электрическая энергия, тыс.кВт.ч | B25: 52.81832 | E25: 0 | F25: 52.81832
A26: Мощность, МВт | B26: 0.0088030533 | E26: 0 | F26: 0.0088030533
A27: сверх социальной нормы
A28: Электрическая энергия, тыс.кВт.ч | B28: 0 | E28: 0 | F28: 0
A29: Мощность, МВт | B29: 0 | E29: 0 | F29: 0
A30: II. СОБСТВЕННОЕ ПОТРЕБЛЕНИЕ (в целом по юридическому лицу) ***
A31: Электрическая энергия, тыс.кВт.ч | B31: 1416.13 | E31: 1416.13
A32: Мощность, МВт | B32: 0.16203 | E32: 0.16203 | J32: 8739.9247
A34: Примечание: * - указать дату и № действующего договора оказания услуг по передаче электрической энергии
A35: ** - в соответствии с критериями, определенными постановлением Правительства Российской Федерации от 29.12.2011 № 1178;
A36: ***- действующие договора энергоснабжения № 58 от 01.01.2013г.
A37: Руководитель энергосбытовой организации ООО "НК-Энергосбыт" | D37: Руководитель сетевой организации АО "РКЦ "Прогресс"
A42: _______________________________________________ | D42: ___________________________
A43: (ФИО, подпись) | D43: (ФИО, подпись)
A44: М.П. | D44: М.П.
A45: Дата согласования______________________

Sheet Реестр всп.мат.2013пром. 
A1: Реестр документов, подтверждающих поступление электротехнических материалов на обслуживание и ремонт оборудования участка электроснабжения потребителей АО "РКЦ "Прогресс" за 2013 г.
I2: на передачу сторонним потребителям
A3: № | B3: Поставщик | C3: Номенклатура | D3: Дата | E3: Счет-фактура | F3: Сумма, руб. с НДС | G3: Дата | H3: Платежное поручение | I3: Сумма, руб. с НДС
A4: Цех 2426 (пром.площадка)
A5: 2013год
A6: 1. | B6: ООО "Региональная кабельная компания" | C6: Кабель, провод, наконечник медный | D6: 41471 | E6: № СРК 0000017 | F6: 70895.58 | G6: 41499 | H6: № 23851 | I6: 70895.58
A7: 2. | C7: Муфта соединительная | D7: 41523 | E7: № КРК 0000082 | F7: 4705.44 | G7: 41534 | H7: № 27495 | I7: 4705.44
C8: Муфта | D8: 41544 | E8: № КРК 0000070 | F8: 171509.69 | G8: 41523 | H8: № 26291 | I8: 171509.69
C9: Муфты концевые | D9: 41506 | E9: № КРК 0000033 | F9: 13336.24 | G9: 41523 | H9: № 25631 | I9: 171509.69
C10: Кабель | D10: 41508 | E10: № КРК 0000068 | F10: 505825.11 | G10: 41523 | H10: № 26345 | I10: 505825.11
C11: Кабель | D11: 41544 | E11: № КРК 0000071 | F11: 133894.6 | G11: 41523 | H11: № 26290 | I11: 133894.6
A12: 3. | C12: Кабель | D12: 41541 | E12: № СРК 0000050 | F12: 16413.8 | G12: 41563 | H12: № 30268 | I12: 16413.8 | J12: =SUM(F7:F12) -> 845684.88 | K12: =J12-I7 -> 840979.44
A13: 4. | C13: Провод | D13: 41621 | E13: № КРК 0000112 | F13: 4958.83 | G13: 41634 | H13: № 37616 | I13: 4958.83
A14: 5. | B14: ООО "Волгаэлектросбыт" | C14: Трансформатор тока | D14: 41389 | E14: № 2.2-1.35493/2 | F14: 77541.79 | G14: 41367 | H14: № 9710 | I14: 77541.79
A15: 6. | B15: ООО "Научно Производственное Предприятие "ПромТЭК" | C15: Кабель, провод, наконечник медный | D15: 41358 | E15: № 88 | F15: 17300.28
A16: 7.
A17: 8. | J17: =SUM(F15:F17) -> 17300.28
J27: =SUM(F23:F27) -> 0
J28: =SUM(F24:F28) -> 0
J29: =SUM(F25:F29) -> 0
A30: Итого | F30: =SUM(F6:F29) -> 1016381.4 | I30: =SUM(I6:I29) -> 1157254.5
A31: По цеху 2426
A32: Техническое обслуживание, капитальный и текущий ремонт обрудования участка электроснабжения организации выполняется хоз.способом.
A33: В материалах дела вх.№ 565/Р от 30.04.2014г. на стр.395-413 представлены технические сметы за 2013 г.на работы по выполнению
A34: капитального ремонта оборудования (ТП, КРУ, кабель), участвующего в передаче электрической энергии потребителям.
A35: Дефектные ведомости и акты вып.работ к сметам с расшифровкой номеклатуры и стоимости израсходованных материалов на ремонт прилагаются.
A36: Затраты на электротехнические материалы на 2014 г. взяты на уровне факта 2013г. и составят: | F36: =$I$30/1000 -> 1157.2545 | G36: тыс.руб. без НДС
A37: На 2016 г. затраты по статье "вспомогательные материалы" проиндексированы на Кинд.к 2015г. = 1,079
C38: и составят = 1 157,3 х 1,079= | D38: =$F$36*1.079 -> 1248.6776 | E38: тыс.руб.
A40: № | B40: Поставщик | C40: Счет-фактура | D40: Дата | E40: Счет-фактура | F40: Сумма, руб. с НДС | G40: Дата | H40: Платежное поручение | I40: Сумма, руб. с НДС
A41: Цех 2496 (подсобное хозяйство)
A42: 2010 год
A43: 1. | B43: ООО "Техкомплектсервис" | C43: № Тк0014 | D43: 04.02.10 | E43: № Тк0014 | F43: 15642.8 | G43: 03.02.2010 | H43: 68 | I43: 37678.5
A44: 2. | C44: № Тк0019 | D44: 08.02.10 | E44: № Тк0019 | F44: 20392.5 | G44: 12.02.2010 | H44: 98 | I44: 3180 | K44: =SUM(F43:F44) -> 36035.3 | L44: =SUM(I43:I44) -> 40858.5
A45: 3. | C45: № Тк0038 | D45: 26.02.10 | E45: № Тк0038 | F45: 24197 | G45: 19.02.2010 | H45: 119 | I45: 24197
A46: 4. | C46: № Тк0039 | D46: 01.03.10 | E46: № Тк0039 | F46: 6850 | G46: 30.03.2010 | H46: 231 | I46: 6850
A47: 5. | C47: № Тк0054 | D47: 18.03.10 | E47: № Тк0054 | F47: 78415.88 | G47: 15.03.2010 | H47: 196 | I47: 86085.88
A48: 6. | C48: № Тк0055 | D48: 18.03.10 | E48: № Тк0055 | F48: 7670 | K48: =SUM(F47:F48) -> 86085.88 | L48: =SUM(I47) -> 86085.88
A49: 7. | C49: № Тк0100 | D49: 04.05.10 | E49: № Тк0100 | F49: 1195 | K49: =SUM(F43:F48) -> 153168.18 | L49: =SUM(I43:I49) -> 157991.38
A50: 8. | C50: № Тк0069 | D50: 01.04.10 | E50: № Тк0069 | F50: 20725 | G50: 01.04.2010 | H50: 242 | I50: 20725
...

Sheet РСЭО факт за 2012г.
A1: Расходы по содержанию и эксплуатации оборудования
A2: по участку электроснабжения ФГУП «ГНПРКЦ «ЦСКБ-Прогресс» за 2012г.
D3: на передачу сторонним потребителям | F3: без НДС
A4: № | B4: Наименование | C4: Исполнитель | D4: Обосновывающий документ | E4: Всего 2012 г. | F4: 2012 г.затраты на потребителя d = 14,74% | G4: 2014 г.затраты на потребителя d = 14,74% | H4: 2012г. | I4: 0.1474
E5: тыс.руб. | F5: тыс.руб. | G5: тыс.руб.
A6: Услуги сторонних организаций
A7: 1. | B7: Определение места повреждения кабеля и устранение повреждения от РУ 30 до КТП ООО "Исток" и от РУ 71 до ГПП220/10 | C7: хоз.способ (строительное подразделение) | D7: Договор подряда №43/2012 от 01.08.2012 ООО "Энергостройсервис", справка о стоимости и акт вып.работ, платежное поручение № 28968 от 08.10.12, схема электроснабжения на потребителя | E7: 345.98542 | F7: =E7 -> 345.98542 | G7: =F7 -> 345.98542
A8: 2. | B8: Плановая профилактическая проверка электротехнических цепей, релейной защиты измерения, учета и автоматики ЗРУ -10кВ на ГПП | D8: Договр №5 от 16.03.2012г. ООО "Строй-Гарант", справка о стоимости и акт вып.работ, платежные поручения №15568 от 25.05.2012 и № 33585 от 29.112012г. | E8: 1101.6949 | F8: =E8*I4 -> 162.38983 | G8: =F8 -> 162.38983
A9: 3. | B9: Диагностика кабельной линии ГПП 110кВ ССК - КРУ 22 ФГУП «ГНПРКЦ «ЦСКБ-Прогресс» | D9: Договор №8 от 18.09.2012 г. ООО "Газпром трансгаз Самара", платежное поручение № 1723 от 21.01.2013 | E9: =23.6/1.18 -> 20 | F9: =E9*I4 -> 2.948 | G9: =F9 -> 2.948
A10: 4. | B10: Периодические испытания трансформаторного масла силовых трансформаторов ТРДЦН-63000/220кВ Т-1 и Т-2 на ГПП | D10: Договор подряда № 38 от 20.11.2012 ООО "СЭРМН", акт вып.раб., справка о стоимости работ, платежное поручение № 6434 от 06.03.2013г. | E10: 43.87349 | F10: =E10*I4 -> 6.4669524 | G10: =F10 -> 6.4669524
A11: 5. | B11: Проведение энергоаудита энергохозяйства ФГУП «ГНПРКЦ «ЦСКБ-Прогресс»,выдача энергетического паспорта предприятия, разработка программы в области энергосбережения и повышения энергетической эффективности | D11: Договор № 6 от 20.04.2012г. ОАО "Самараэнерго", акт вып.раб.от 15.02.2013г., сумма по договору всего | E11: =10500/1.18 -> 8898.3051 | G11: 0
D12: на электроснабжение в доле 33,3% (т.к. 3 вида деятельности: электроснабжение, тепло- и водоснабжение | E12: =E11/3 -> 2966.1017 | F12: =E12*I4 -> 437.20339 | G12: =F12*J4 -> 0
E16: =SUM(E18:E20) -> 0 | F16: =SUM(F18:F20) -> 0 | G16: =SUM(G18:G20) -> 0
C21: сторонние организации
A22: 6. | B22: Обучение специалистов правилам и нормам безопасной эксплуатации электроустановок | D22: Договор с ООО "ЦДО "Промэнергобезопасность", реестр счетов-фактур с 01.01.2012 по 31.12.2012, платежные поручения | E22: =87.02/1.18 -> 73.745763 | F22: =E22*I4 -> 10.870125 | G22: =F22 -> 10.870125
A23: 7. | B23: Ежегодное медицинское освидетельствование электротехнического персонала | E23: ='Работы и услуги 2011г.'!E10*1.06 -> 143.80702 | F23: =E23*I4 -> 21.197155 | G23: =F23 -> 21.197155 | J23: =SUM(E21:E23)+E7 -> 563.5382
A24: 5. | B24: Приобретение и монтаж резервного трансформатора ТМ-250 6/0,4 на ТП-203 | K24: =(71.4+71+40+30)/1.18 -> 180
A25: 6. | B25: Ремонт и обслуживание злектрических сетей (90,0тыс.руб.)
A26: 8. | B26: Экспертиза технологических потерь электрической энергии, расчет и обоснование тарифов на услуги по передаче электроэнергии , ЕИАС | C26: ООО "СамараЭСКО" | E26: 0 | F26: 0 | G26: =59-9+70/1.18 -> 109.32203
A27: 9. | B27: Расходы на стандарты раскрытия информации организации, осуществляющей регулируемые виды деятельности (сайт, публикация в газете Волжская коммуна бухгалтерской отчетности) | C27: сторонняя организация | D27: Постановление правительства РФ от 30.12.2009г. № 24 | E27: 30 | F27: 30 | G27: 30
B28: Итого услуги | E28: =SUM(E7:E27)-E11 -> 4725.2083 | F28: =SUM(F7:F27)-F11 -> 1017.0609 | G28: =SUM(G7:G27) -> 689.17952
B29: в т.ч. Итого ремонт п.1 | E29: =E7+E25 -> 345.98542 | F29: =F7+F25 -> 345.98542 | G29: =G7+G25 -> 345.98542
A30: Примечание:
A31: Договора, акты выполненных работ, платежные поручения представлены в деле по расчету тарифов на 2014 г. вх.№574/Р стр.238-280.
B32: Расчет доли на потребителя по факту 2012г.
D33: Отпуск в сеть ФГУП «ГНПРКЦ «ЦСКБ-Прогресс» эл.эн. на потребителя - | E33: 23092.289 | F33: тыс.квтч.
D34: Собственное потребление эл.эн. ФГУП «ГНПРКЦ «ЦСКБ-Прогресс» | E34: ='[10]стр-ра пол.отп. 2014г.'!$B$23 -> 133980 | F34: тыс.квтч.
D35: Доля на потребителя - | E35: =E33/(E33+E34)+0.0004 -> 0.14741695
A36: Исполнитель
A37: Харитонова Л. С.

Sheet Услуги стор.орг..-2013г. 
A1: Реестр договоров, подтверждающих затраты по статье "Работы и услуги производственного характера"
A2: на передачу электрической энергии сторонним потребителям ФГУП «ГНПРКЦ «ЦСКБ-Прогресс» в 2013г.
A4: № | B4: Наименование | C4: Исполнитель | D4: Обосновывающий документ | E4: 2013 г. | F4: 2013 г. | G4: 2013 г.затраты на потребителя | H4: 2012г. | I4: 0.1474
E5: тыс.руб. | F5: тыс.руб. | G5: тыс.руб. | H5: 2013г. | I5: 0.13522048 | J5: по ф.5 за 2013 г.
A6: Услуги сторонних организаций по ремонту | H6: 2014г. | I6: =21287.15/172043.17 -> 0.12373144
A7: 1 | B7: Монтаж и пусконаладка электрооборудования КРУ-22 | C7: СК "Спецмонтажавтоматика" | D7: Договор, РС №853 | F7: =3165.06/1.18 -> 2682.2542 | G7: =F7 -> 2682.2542 | H7: 2016 | I7: ='П1.30 -2020г., 1 и 2 п-е'!G9/('П1.30 -2020г., 1 и 2 п-е'!G9+'2016 тсо кроме мрск'!B60+'2016 тсо НК Энергосб'!B60) -> 0.94164496 | J7: =22365.349/(22365.349+150756.021+1416.13) -> 0.12814065
A8: =A7+1 -> 2 | B8: Ремонт изоляторов ПС-70 на ОРУ-220/10/10 | C8: ООО "Энергостройсервис" | D8: Договор №26/2013 от 11.07.ю2013, РС№346 | F8: =466.05262/1.18 -> 394.95985 | G8: =F8*$I$6 -> 48.868953
A9: =A8+1 -> 3 | B9: Инженерно-геодезические изыскания для капитального ремонта кабельной линии 10кВ от ГПП 110/10кВ "АВИС" до РУ-3В, РУ-30, РУ-22 | C9: ООО "Энергогазстрой" | D9: Договор №02/ИГИ-13 от 07.08.2013 | F9: =499.99609 -> 499.99609 | G9: =F9*$I$6 -> 61.865239
A10: 4 | B10: Проверка устройств автоматики частотной разгрузки (АЧР) на ПС 220/10/10 | C10: ЗАО "Волгаэнергосервис" | D10: Договор № 01-2013 от 26.07.2013, ЛС-950 | F10: =104.1468/1.18 -> 88.26 | G10: =F10*$I$6 -> 10.920537
A11: 5 | B11: Капитальный ремонт редуктора РПН РС-3 силового трансформатора ТРДЦН-63000/220кВ | C11: ООО "Самараэлектрореммонтаж- наладка" | D11: Договор № 29 от 29.08.2013 | F11: =208.88723/1.18 -> 177.02308 | G11: =F11*$I$6 -> 21.903321
A12: 6 | B12: Каитальный ремонт шкафов на КРУ-26-10кВ | C12: ООО "Энергостройпроект" | D12: Договор №04/Э-13 от 09.08.2013 | F12: =482.0418/1.18 -> 408.51 | G12: =F12*$I$6 -> 50.545533
A13: 7 | B13: Пуско-наладка и проверка релейной защиты трансформатора Т-1 на ГПП-220/10/10 | C13: ООО "Энергостройсервис" | D13: Договор подряда №12 от 23.07.2013г., РС№378 | F13: =499.91356/1.18 -> 423.65556 | G13: =F13*$I$6 -> 52.419514
A17: Услуги сторонних организаций по техническому обслуживанию | H17: 2015г. | I17: ='П1.30 -2020г., 1 и 2 п-е'!AG10 -> 0
A18: =A9+1 -> 4
A19: =A18+1 -> 5
A20: =A19+1 -> 6
A21: =A20+1 -> 7
A22: =A21+1 -> 8
A23: =A22+1 -> 9
A24: =A23+1 -> 10 | J24: =SUM(F23:F24)+F18 -> 0
A25: 7. | K25: =(71.4+71+40+30)/1.18 -> 180
A26: 8.
A27: =A24+1 -> 11
A28: =A27+1 -> 12
B29: Итого | E29: =SUM(E7:E28) -> 0 | F29: =SUM(F7:F28) -> 4674.6588 | G29: =SUM(G7:G28) -> 2928.7773
A30: Примечание: | I30: 2014г.-689,2т.р.
A31: 1. Доля затрат на потребителя по п.2-п.7 отнесена на передачу эл.энергии сторонним потребителям пропорционально фактическим объемам передачи кВтч по данным формы 5 за 2014г.) | I31: 2015г.-726,4т.р.
A32: d = 13,52% (21287,1тыс.кВтч/172043,17тыс.кВтч). | I32: =(9777.22+10620.03+1738.25)/163699.28 -> 0.13522051
A35: Исполнитель
A36: Харитонова Л. С.

Sheet ++ Реестр всп.мат.2014 с ЛОЦ
A1: Расчет стоимости затрат по статье «Материалы» на передачу электрической энергии потребителям ОАО "РКЦ "Прогресс" на 2015 г. (с учетом участка ЛОЦ «Космос», г. Самара, Красноглинский район, п. Прибрежный)
A3: Цех 2426 (пром.площадка)
A4: Техническое обслуживание, капитальный и текущий ремонт обрудования участка электроснабжения организации выполняется хоз.способом.
A5: В материалах дела вх.№ 565/Р от 30.04.2014г. на стр.395-413 представлены технические сметы за 2013 г.на работы по выполнению капитального
A6: ремонта оборудования (ТП, КРУ, кабель), участвующего в передаче электрической энергии потребителям подразделения 2426 (промплощадка).
A7: Расчет затрат на электротехнические материалы на обслуживание и ремонт оборудования участка электроснабжения потребителей по пром.площадке
A8: с приложением подтверждающих документов представлен в дополнительных материалах тарифного дела вх.№ 7720 от 01.08.2014 г. на стр.293-346.
A9: На 2014 г. затраты по статье "вспомогательные материалы" для оказания услуг по передачe эл.энергии потребителям по цеху 2426 (пром.площадка)
A10: взяты на уровне факта 2013г.и составляют 1 157,3 тыс.руб. | J10: ='Реестр всп.мат.2013пром.'!F36 -> 1157.2545 | K10: тыс.руб.
A11: На 2016 г. затраты по статье "материалы" проиндексированы на Кинд.к 2015г. = 1,079 и составят 1248,7 тыс.руб. | G11: тыс.руб. без НДС | J11: ='Реестр всп.мат.2013пром.'!D38 -> 1248.6776 | K11: тыс.руб.
A13: Цех 2452 (ЛОЦ "Космос")
A14: № | B14: Поставщик | C14: Номенклатура | D14: Дата | E14: Подтверждающий документ | F14: Сумма, руб., без НДС | G14: Дата | H14: Платежное поручение | I14: Сумма, руб. с НДС
A15: 1 полугодие 2014 год
A16: 1. | B16: ООО "ТД"УНКОМТЕКС" | C16: Кабель | D16: 09.06.2014г. | E16: счт-фактура | F16: =551953.58 -> 551953.58
A17: 2. | B17: ООО "Эл-Пром-С | C17: Светильники | D17: № 306 29.04.2014 | E17: товарная накладные | F17: 9078.81
D18: № 308 29.04.2014 | F18: 12127.12
D19: № 307 29.04.2014 | F19: 4847.5
C20: Светильники, выключатели | D20: № 168 24.04.2014 | F20: 97057.63
A21: 3. | B21: ООО "ПТК" | C21: Электротехнические материалы (по акту сверки) | D21: 24.04.2014, 30.04.2014, 30.06.2014 | F21: =127028/1.18 -> 107650.85 | L21: 127018 | M21: руб.
A22: Итого | F22: =SUM(F16:F21) -> 782715.49 | I22: =SUM(I10:I21) -> 0 | J22: =F22/1000*2 -> 1565.431 | K22: тыс.руб.
A23: 2012 год для выполнения работ по замене второго питающего кабеля 10кВ от ТП-11 до ТП-1 в ДОЛ "Орлёнок" | J23: =J22*1.049 -> 1642.1371 | K23: тыс.руб.
A24: 2. | B24: ООО "Кронос-Строй" | C24: Кабель АСБу 10-3х185 648,82 | D24: 41206 | E24: накладнаые на отпуск материалов на сторону представлены в разделе "Работы и услуги производственного характера" на стр. __________, | F24: 282236.7
C25: Наконечник кабельный ТАМ-185 | D25: 41208 | F25: 810
C26: Муфта Стп-10-150/240 3100,00 | D26: 41206 | F26: 12400
C27: Муфты эл. 1031,64 | D27: 41206 | F27: 2063.28
C28: Кабель АСБп 10-3х185 572,08 | D28: 41172 | F28: 729402
C29: ИТОГО | F29: =SUM(F24:F28) -> 1026912
A30: 2013 год
A31: 3. | C31: Перчатки диэлектрические | D31: 41578 | E31: накладная на отпуск материалов | F31: 2189.8
A32: Затраты на электротехнические материалы для оказания услуг по передаче электрической энергии по цеху 2452 (ЛОЦ "Космос") на 2014 г. взяты
A33: на уровне затрат за 1 полугодие 2014г., умноженного на 2, и составят 782 715,49 руб./ 1000 х 2 = 1 565,4 тыс.руб. | L33: =F22/1000*2 -> 1565.431 | M33: тыс.руб.
A34: На 2015 г. затраты по статье "материалы" проиндексированы на Кинд.к 2014г. = 1,049 и составят 1 642,1 тыс.руб. (1 565,4 тыс.руб. х 1,049 = 1 642,1 тыс.руб.) | L34: =L33*1.049 -> 1642.1371 | M34: тыс.руб.
A35: Затраты по статье "Материалы" на передачу эл.энергии потребителям ЛОЦ "Космос" взяты в доле пропорционально переданным кВтч | L35: =L33*'Услуги стор.орг..-2018-2020гг.'!I6 -> 0 | M35: тыс.руб.
A36: на собственное потребление и потребителям и составят на 2014 год 211,0 тыс.руб. (1 565,4 тыс.руб.х 13,48% = 211,0 тыс.руб.), | I36: =F32*N38 -> 0 | J36: =J22*0.1348 -> 211.0201 | K36: тыс.руб. | L36: =L34*13.48% -> 221.36008 | M36: тыс.руб.
A37: на 2015 г. затраты проиндексированы на Кинд.к 2014г. = 1,049 и составят 221,4 тыс.руб. (211,0 тыс.руб. х 1,049 = 221,4 тыс.руб.) | J37: =J36*1.049 -> 221.36008 | K37: тыс.руб.
A38: Доля затрат на передачу эл.энергии потребителям определена в разделе "Амортизация" на стр. ______ и составляет d = 13,48%. | N38: ='2016 тсо НК Энергосб'!$B$9/('2016 тсо НК Энергосб'!$B$9+'2016 тсо НК Энергосб'!$B$60) -> 0.0028004932
A40: Итого затраты по статье "Материалы" для оказания услуг по передаче эл.энергии потребителям ОАО "РКЦ "Прогресс" составили:
A42: Наименование подразделение | C42: Затраты по статье матриалы на потребителя, тыс.руб.
C43: 2014 год | D43: 2015 год
A44: цех 2426 (пром.площадка) | C44: ='Реестр всп.мат.2013пром.'!F36 -> 1157.2545 | D44: ='Реестр всп.мат.2013пром.'!D38 -> 1248.6776
...

Sheet Реестр всп.мат.2013пром.
A1: Реестр документов, подтверждающих поступление электротехнических материалов на обслуживание и ремонт оборудования участка электроснабжения потребителей ФГУП «ГНПРКЦ «ЦСКБ-Прогресс» за 2013 г.
I2: на передачу сторонним потребителям
A3: № | B3: Поставщик | C3: Номенклатура | D3: Дата | E3: Счет-фактура | F3: Сумма, руб. с НДС | G3: Дата | H3: Платежное поручение | I3: Сумма, руб. с НДС
A4: Цех 2426 (пром.площадка)
A5: 2013 год
A6: 1. | B6: ООО "Региональная кабельная компания" | C6: Кабель, провод, наконечник медный | D6: 41471 | E6: № СРК 0000017 | F6: 70895.58 | G6: 41499 | H6: № 23851 | I6: 70895.58
A7: 2. | C7: Муфта соединительная | D7: 41523 | E7: № КРК 0000082 | F7: 4705.44 | G7: 41534 | H7: № 27495 | I7: 4705.44
C8: Муфта | D8: 41544 | E8: № КРК 0000070 | F8: 171509.69 | G8: 41523 | H8: № 26291 | I8: 171509.69
C9: Муфты концевые | D9: 41506 | E9: № КРК 0000033 | F9: 13336.24 | G9: 41523 | H9: № 25631 | I9: 171509.69
C10: Кабель | D10: 41508 | E10: № КРК 0000068 | F10: 505825.11 | G10: 41523 | H10: № 26345 | I10: 505825.11
C11: Кабель | D11: 41544 | E11: № КРК 0000071 | F11: 133894.6 | G11: 41523 | H11: № 26290 | I11: 133894.6
A12: 3. | C12: Кабель | D12: 41541 | E12: № СРК 0000050 | F12: 16413.8 | G12: 41563 | H12: № 30268 | I12: 16413.8 | J12: =SUM(F7:F12) -> 845684.88 | K12: =J12-I7 -> 840979.44
A13: 4. | C13: Провод | D13: 41621 | E13: № КРК 0000112 | F13: 4958.83 | G13: 41634 | H13: № 37616 | I13: 4958.83
A14: 5. | B14: ООО "Волгаэлектросбыт" | C14: Трансформатор тока | D14: 41389 | E14: № 2.2-1.35493/2 | F14: 77541.79 | G14: 41367 | H14: № 9710 | I14: 77541.79
A15: 6. | B15: ООО "Научно Производственное Предприятие "ПромТЭК" | C15: Кабель, провод, наконечник медный | D15: 41358 | E15: № 88 | F15: 17300.28
A16: 7.
A17: 8. | J17: =SUM(F15:F17) -> 17300.28
J27: =SUM(F23:F27) -> 0
J28: =SUM(F24:F28) -> 0
J29: =SUM(F25:F29) -> 0
A30: Итого | F30: =SUM(F6:F29) -> 1016381.4 | I30: =SUM(I6:I29) -> 1157254.5
A31: По цеху 2426
A32: Техническое обслуживание, капитальный и текущий ремонт обрудования участка электроснабжения организации выполняется хоз.способом.
A33: В материалах дела вх.№ 565/Р от 30.04.2014г. на стр.395-413 представлены технические сметы за 2013 г.на работы по выполнению
A34: капитального ремонта оборудования (ТП, КРУ, кабель), участвующего в передаче электрической энергии потребителям.
A35: Дефектные ведомости и акты вып.работ к сметам с расшифровкой номеклатуры и стоимости израсходованных материалов на ремонт прилагаются.
A36: Затраты на электротехнические материалы на 2014 г. взяты на уровне факта 2013г. и составят: | F36: =$I$30/1000 -> 1157.2545 | G36: тыс.руб. без НДС
A37: На 2016 г. затраты по статье "вспомогательные материалы" проиндексированы на Кинд.к 2015г. = 1,079
C38: и составят = 1 157,3 х 1,079= | D38: =$F$36*1.079 -> 1248.6776 | E38: тыс.руб.
A40: № | B40: Поставщик | C40: Счет-фактура | D40: Дата | E40: Счет-фактура | F40: Сумма, руб. с НДС | G40: Дата | H40: Платежное поручение | I40: Сумма, руб. с НДС
A41: Цех 2496 (подсобное хозяйство)
A42: 2010 год
A43: 1. | B43: ООО "Техкомплектсервис" | C43: № Тк0014 | D43: 04.02.10 | E43: № Тк0014 | F43: 15642.8 | G43: 03.02.2010 | H43: 68 | I43: 37678.5
A44: 2. | C44: № Тк0019 | D44: 08.02.10 | E44: № Тк0019 | F44: 20392.5 | G44: 12.02.2010 | H44: 98 | I44: 3180 | K44: =SUM(F43:F44) -> 36035.3 | L44: =SUM(I43:I44) -> 40858.5
A45: 3. | C45: № Тк0038 | D45: 26.02.10 | E45: № Тк0038 | F45: 24197 | G45: 19.02.2010 | H45: 119 | I45: 24197
A46: 4. | C46: № Тк0039 | D46: 01.03.10 | E46: № Тк0039 | F46: 6850 | G46: 30.03.2010 | H46: 231 | I46: 6850
A47: 5. | C47: № Тк0054 | D47: 18.03.10 | E47: № Тк0054 | F47: 78415.88 | G47: 15.03.2010 | H47: 196 | I47: 86085.88
A48: 6. | C48: № Тк0055 | D48: 18.03.10 | E48: № Тк0055 | F48: 7670 | K48: =SUM(F47:F48) -> 86085.88 | L48: =SUM(I47) -> 86085.88
A49: 7. | C49: № Тк0100 | D49: 04.05.10 | E49: № Тк0100 | F49: 1195 | K49: =SUM(F43:F48) -> 153168.18 | L49: =SUM(I43:I49) -> 157991.38
A50: 8. | C50: № Тк0069 | D50: 01.04.10 | E50: № Тк0069 | F50: 20725 | G50: 01.04.2010 | H50: 242 | I50: 20725
...

Sheet Реестр всп.мат.2012пром.
A1: Реестр документов, подтверждающих поступление электротехнических материалов на обслуживание и ремонт оборудования участка электроснабжения потребителей ФГУП «ГНПРКЦ «ЦСКБ-Прогресс» за 2012 г.
G2: на передачу сторонним потребителям
A4: № | B4: Поставщик | C4: Дата | D4: Счет-фактура | E4: Сумма, руб. с НДС | F4: Дата | G4: Платежное поручение | H4: Сумма, руб. с НДС
A5: Цех 2426
A6: 2012 год
A7: 1. | B7: ООО "ЭТК "Содействие" | C7: 16.05.2012 | D7: № КЭТ 0000393 | E7: 2526.4 | F7: 18.04.2012 | G7: № 806 | H7: 2526.4
A8: 2. | C8: 13.06.2012 | D8: № КЭТ 0000487 | E8: 101393.21 | F8: 14.06.2012 | G8: № 17262 | H8: 153883.42
A9: 3. | C9: 19.06.2012 | D9: № КЭТ 0000504 | E9: 52524.22 | F9: 27.07.2012 | G9: № 22156 | H9: 34.01 | I9: =SUM(E8:E9) -> 153917.43 | J9: =I9-H8 -> 34.01
A10: 4. | C10: 20.07.2012 | D10: № КЭТ 0000611 | E10: 69779.95 | F10: 19.07.2012 | G10: № 21211 | H10: 69779.95
A11: 5. | C11: 30.08.2012 | D11: № КЭТ 0000726 | E11: 242558.48 | F11: 28.08.2012 | G11: № 25096 | H11: 242558.48
A12: 6. | B12: ООО "Волгаэлектросбыт" | C12: 23.04.2012 | D12: № 2.17МА1951.1-1/2 | E12: 4169.58 | F12: 18.04.2012 | G12: № 807 | H12: 7730.56
A13: 7. | C13: 02.05.2012 | D13: № 2.17МА1951/2 | E13: 908.97
A14: 8. | C14: 27.06.2012 | D14: № 2.17МА1951/2 | E14: 2652.01 | I14: =SUM(E12:E14) -> 7730.56
I24: =SUM(E20:E24) -> 0
I25: =SUM(E21:E25) -> 0
I26: =SUM(E22:E26) -> 0
A27: Итого | E27: =SUM(E7:E26) -> 476512.82 | H27: =SUM(H7:H26) -> 476512.82
A28: По цеху 2426
A29: Затраты на электротехнические материалы в расчет тарифов на 2013 г. взяты с Кинд.к 2012г. =1,071 и составят:
C30: 476512,82 /1,18 /1000 х 1,071= | D30: =$H$27/1000/1.18*1.071 -> 432.49596 | E30: тыс.руб. без НДС
A31: На 2014 г. затраты по статье "вспомогательные материалы" проиндексированы на Кинд.к 2013г. = 1,054
B32: и составят = 432,5 х 1,054= | C32: =D30*1.054 -> 455.85074 | D32: тыс.руб.
A34: № | B34: Поставщик | C34: Дата | D34: Счет-фактура | E34: Сумма, руб. с НДС | F34: Дата | G34: Платежное поручение | H34: Сумма, руб. с НДС
A35: Цех 2496 (подсобное хозяйство)
A36: 2010 год
A37: 1. | B37: ООО "Техкомплектсервис" | C37: 04.02.10 | D37: № Тк0014 | E37: 15642.8 | F37: 03.02.2010 | G37: 68 | H37: 37678.5
A38: 2. | C38: 08.02.10 | D38: № Тк0019 | E38: 20392.5 | F38: 12.02.2010 | G38: 98 | H38: 3180 | J38: =SUM(E37:E38) -> 36035.3 | K38: =SUM(H37:H38) -> 40858.5
A39: 3. | C39: 26.02.10 | D39: № Тк0038 | E39: 24197 | F39: 19.02.2010 | G39: 119 | H39: 24197
A40: 4. | C40: 01.03.10 | D40: № Тк0039 | E40: 6850 | F40: 30.03.2010 | G40: 231 | H40: 6850
A41: 5. | C41: 18.03.10 | D41: № Тк0054 | E41: 78415.88 | F41: 15.03.2010 | G41: 196 | H41: 86085.88
A42: 6. | C42: 18.03.10 | D42: № Тк0055 | E42: 7670 | J42: =SUM(E41:E42) -> 86085.88 | K42: =SUM(H41) -> 86085.88
A43: 7. | C43: 04.05.10 | D43: № Тк0100 | E43: 1195 | J43: =SUM(E37:E42) -> 153168.18 | K43: =SUM(H37:H43) -> 157991.38
A44: 8. | C44: 01.04.10 | D44: № Тк0069 | E44: 20725 | F44: 01.04.2010 | G44: 242 | H44: 20725
A45: 9. | C45: 06.05.10 | D45: № Тк0104 | E45: 12840 | F45: 15.04.2010 | G45: 276 | H45: 3005 | J45: =E43+E45 -> 14035
A46: 10. | C46: 11.06.10 | D46: № Тк0157 | E46: 4350 | F46: 06.05.2010 | G46: 336 | H46: 13045 | J46: =E45+E46 -> 17190 | K46: =H45+H46 -> 16050
A47: 11. | C47: 21.06.10 | D47: № Тк0167 | E47: 37232 | F47: 12.05.2010 | G47: 345 | H47: 990
A48: 12. | C48: 21.06.10 | D48: № Тк0168 | E48: 7716 | F48: 25.05.2010 | G48: 394 | H48: 42545 | J48: =E47+E48 -> 44948 | K48: =H48 -> 42545
A49: 13. | C49: 30.06.10 | D49: № Тк0177 | E49: 16914 | F49: 15.06.2010 | G49: 496 | H49: 41582
A50: 14. | B50: ООО "ЭТМ" | C50: 30.06.10 | D50: № 2.п09.41403 | E50: 1213.49 | F50: 21.06.2010 | G50: 520 | H50: 2815 | J50: =E50+E51 -> 2333.05 | K50: =H50 -> 2815
A51: 15. | C51: 30.06.10 | D51: № 2.п09.41403 | E51: 1119.56
...

Sheet Услуги стор.орг..-2018-2020гг.
A1: Реестр договоров и платежных поручений, подтверждающих затраты по статье "Работы и услуги производственного характера" | L1: (согласно п.7 Предписания № 10-412-09-13-413-В от 27.09.2013 г. Средне-Поволжского управления Ростехнадзора - стр.391-393 дела вх.№ 565/Р от 30.04.2014г.)
A2: на передачу электрической энергии сторонним потребителям АО «РКЦ «Прогресс» на 2017-2018гг.
F4: тыс.руб.
A5: № | B5: Наименование | C5: Исполнитель | D5: Обосновывающий документ | E5: 2013 г. | F5: Сумма 2018 г., без НДС | G5: 2018 г. затраты на потребителя
A6: Услуги сторонних организаций по ремонту
A7: 1 | B7: Работы по демонтажу контактора РПН (с установкой временных перемычек) силового трансформатора ТРДЦН-63000/220/10/10 Т-1 на ГПП цеха 2426 | C7: ООО "Самараэлектрореммонтажналадка" | D7: Договор подряда №39-17 от 06.10.2017, смета, справка о стоимости работ, АВР, платежное поручение | F7: 67.98918 | G7: =F7*$C$37 -> #REF!
A8: =A7+1 -> 2 | B8: Расчет установок релейной защиты ТП "Зубчаниновская" 220/10/10 кВ на стороне 220 кВ | C8: ООО "ТПО-НЕФТЕПРОМ" | D8: Договор подряда №01/11-2017 от 01.11.2017, АВР, платежное поручение | F8: =230.72534/1.18 -> 195.52995 | G8: =F8*$C$37 -> #REF!
A9: =A8+1 -> 3 | B9: Ремонтные работы сезонных испытаний и доливки трансформаторного масла в силовые трансформаторы ТРДЦН-63000/220/10/10 Т-1 и ТРДЦН-63000/220/10/10 Т-2 на ГПП цеха 2426 | C9: ООО "Самараэлектрореммонтажналадка" | D9: Договор подряда № 46-17 от 29.11.2017 г. (согласно п.11 Предписания № 08-412-08-16-330-В от 19.08.2016 г. Средне-Поволжского управления Ростехнадзора - стр._________ дела) | F9: =609.63892 -> 609.63892 | G9: =F9*$C$37 -> #REF!
A10: =A9+1 -> 4 | B10: Испытания трансформаторного масла в силовом трансформаторе ТРДЦН-63000/220/10/10 Т-1 на ГПП цеха 2426 | C10: ООО "Самараэлектрореммонтажналадка" | D10: Договор подряда № 34-17 от 18.09.2017 г., смета, АВР, платежное поручение (согласно п.11 Предписания № 08-412-08-16-330-В от 19.08.2016 г. Средне-Поволжского управления Ростехнадзора - стр._________ дела) | F10: 68.52848 | G10: =F10*$C$37 -> #REF!
A11: 5 | B11: Испытания силового трансформатора ТРДЦН-63000/220/10/10 Т-1 на ГПП цеха 2426 | C11: ООО "Самараэлектрореммонтажналадка" | D11: Договор подряда № 38-17 от 28.09.2017 г., смета, справка о стомости вып.раб.и затрат, АВР, платежное поручение (согласно п.5,6,8 Предписания № 08-412-08-16-330-В от 19.08.2016 г. Средне-Поволжского управления Ростехнадзора - стр._________ дела) | F11: =64.07755/1.18 -> 54.303008 | G11: =F11*$C$37 -> #REF!
